Package: MsFeatures Version: 1.14.0 Command: /Library/Frameworks/R.framework/Resources/bin/R CMD INSTALL MsFeatures StartedAt: 2025-03-31 15:24:32 -0400 (Mon, 31 Mar 2025) EndedAt: 2025-03-31 15:24:55 -0400 (Mon, 31 Mar 2025) EllapsedTime: 23.3 seconds RetCode: 0 Status: OK