Package: MsDataHub Version: 1.6.0 Command: /Library/Frameworks/R.framework/Resources/bin/R CMD check --install=check:MsDataHub.install-out.txt --library=/Library/Frameworks/R.framework/Resources/library --no-vignettes --timings MsDataHub_1.6.0.tar.gz StartedAt: 2025-02-01 02:16:49 -0500 (Sat, 01 Feb 2025) EndedAt: 2025-02-01 02:18:51 -0500 (Sat, 01 Feb 2025) EllapsedTime: 122.5 seconds RetCode: 0 Status: OK CheckDir: MsDataHub.Rcheck Warnings: 0