Package: MsDataHub Version: 1.6.0 Command: /Library/Frameworks/R.framework/Resources/bin/R CMD build --keep-empty-dirs --no-resave-data MsDataHub StartedAt: 2025-04-01 03:46:48 -0400 (Tue, 01 Apr 2025) EndedAt: 2025-04-01 03:52:03 -0400 (Tue, 01 Apr 2025) EllapsedTime: 315.6 seconds RetCode: 0 Status: OK PackageFile: MsDataHub_1.6.0.tar.gz PackageFileSize: 368.7 KiB