Package: MsCoreUtils Version: 1.18.0 Command: rm -rf MsCoreUtils.buildbin-libdir && mkdir MsCoreUtils.buildbin-libdir && F:\biocbuild\bbs-3.20-bioc\R\bin\R.exe CMD INSTALL --build --library=MsCoreUtils.buildbin-libdir MsCoreUtils_1.18.0.tar.gz StartedAt: 2025-04-01 08:41:19 -0400 (Tue, 01 Apr 2025) EndedAt: 2025-04-01 08:41:46 -0400 (Tue, 01 Apr 2025) EllapsedTime: 27.0 seconds RetCode: 0 Status: OK PackageFile: MsCoreUtils_1.18.0.zip PackageFileSize: 537.6 KiB