Package: MsCoreUtils Version: 1.18.0 Command: /Library/Frameworks/R.framework/Resources/bin/R CMD build --keep-empty-dirs --no-resave-data MsCoreUtils StartedAt: 2025-04-01 03:46:42 -0400 (Tue, 01 Apr 2025) EndedAt: 2025-04-01 03:46:56 -0400 (Tue, 01 Apr 2025) EllapsedTime: 13.6 seconds RetCode: 0 Status: OK PackageFile: MsCoreUtils_1.18.0.tar.gz PackageFileSize: 411.9 KiB