Package: MsBackendRawFileReader Version: 1.12.0 Command: /home/biocbuild/R/R/bin/R CMD INSTALL MsBackendRawFileReader StartedAt: 2025-03-31 20:26:41 -0000 (Mon, 31 Mar 2025) EndedAt: 2025-03-31 20:26:42 -0000 (Mon, 31 Mar 2025) EllapsedTime: 1.0 seconds RetCode: 1 Status: ERROR