Package: MsBackendRawFileReader Version: 1.12.0 Command: chmod a+r MsBackendRawFileReader -R && F:\biocbuild\bbs-3.20-bioc\R\bin\R.exe CMD build --keep-empty-dirs --no-resave-data MsBackendRawFileReader StartedAt: 2025-03-31 20:23:08 -0400 (Mon, 31 Mar 2025) EndedAt: 2025-03-31 20:30:43 -0400 (Mon, 31 Mar 2025) EllapsedTime: 455.4 seconds RetCode: 0 Status: OK PackageFile: MsBackendRawFileReader_1.12.0.tar.gz PackageFileSize: 1.245 MiB