Package: MsBackendRawFileReader Version: 1.12.0 Command: rm -rf MsBackendRawFileReader.buildbin-libdir && mkdir MsBackendRawFileReader.buildbin-libdir && F:\biocbuild\bbs-3.20-bioc\R\bin\R.exe CMD INSTALL --build --library=MsBackendRawFileReader.buildbin-libdir MsBackendRawFileReader_1.12.0.tar.gz StartedAt: 2025-04-01 08:41:13 -0400 (Tue, 01 Apr 2025) EndedAt: 2025-04-01 08:47:14 -0400 (Tue, 01 Apr 2025) EllapsedTime: 361.2 seconds RetCode: 0 Status: OK PackageFile: MsBackendRawFileReader_1.12.0.zip PackageFileSize: 1.028 MiB