Package: MsBackendRawFileReader Version: 1.12.0 Command: /home/biocbuild/bbs-3.20-bioc/R/bin/R CMD INSTALL MsBackendRawFileReader StartedAt: 2025-03-31 15:21:26 -0400 (Mon, 31 Mar 2025) EndedAt: 2025-03-31 15:21:35 -0400 (Mon, 31 Mar 2025) EllapsedTime: 9.9 seconds RetCode: 0 Status: OK