Package: MsBackendRawFileReader Version: 1.12.0 Command: rm -rf MsBackendRawFileReader.buildbin-libdir && mkdir MsBackendRawFileReader.buildbin-libdir && /Users/biocbuild/BBS/utils/build-universal.sh MsBackendRawFileReader_1.12.0.tar.gz /Library/Frameworks/R.framework/Resources/bin/R MsBackendRawFileReader.buildbin-libdir StartedAt: 2025-01-28 13:49:26 -0500 (Tue, 28 Jan 2025) EndedAt: 2025-01-28 13:50:13 -0500 (Tue, 28 Jan 2025) EllapsedTime: 46.8 seconds RetCode: 0 Status: OK PackageFile: MsBackendRawFileReader_1.12.0.tgz PackageFileSize: 1.249 MiB