Package: MsBackendMsp Version: 1.10.0 Command: F:\biocbuild\bbs-3.20-bioc\R\bin\R.exe CMD INSTALL MsBackendMsp StartedAt: 2025-01-27 15:57:18 -0500 (Mon, 27 Jan 2025) EndedAt: 2025-01-27 15:57:36 -0500 (Mon, 27 Jan 2025) EllapsedTime: 17.5 seconds RetCode: 0 Status: OK