Package: MsBackendMsp Version: 1.10.0 Command: rm -rf MsBackendMsp.buildbin-libdir && mkdir MsBackendMsp.buildbin-libdir && /Users/biocbuild/BBS/utils/build-universal.sh MsBackendMsp_1.10.0.tar.gz /Library/Frameworks/R.framework/Resources/bin/R MsBackendMsp.buildbin-libdir StartedAt: 2025-04-02 15:18:36 -0400 (Wed, 02 Apr 2025) EndedAt: 2025-04-02 15:18:49 -0400 (Wed, 02 Apr 2025) EllapsedTime: 12.5 seconds RetCode: 0 Status: OK PackageFile: MsBackendMsp_1.10.0.tgz PackageFileSize: 365.8 KiB