Package: MsBackendMgf Version: 1.14.0 Command: /home/biocbuild/R/R/bin/R CMD INSTALL MsBackendMgf StartedAt: 2025-03-31 20:28:57 -0000 (Mon, 31 Mar 2025) EndedAt: 2025-03-31 20:29:10 -0000 (Mon, 31 Mar 2025) EllapsedTime: 12.7 seconds RetCode: 0 Status: OK