Package: MsBackendMgf Version: 1.14.0 Command: /Library/Frameworks/R.framework/Resources/bin/R CMD INSTALL MsBackendMgf StartedAt: 2025-03-31 15:29:08 -0400 (Mon, 31 Mar 2025) EndedAt: 2025-03-31 15:29:32 -0400 (Mon, 31 Mar 2025) EllapsedTime: 24.1 seconds RetCode: 0 Status: OK