Package: MsBackendMgf Version: 1.14.0 Command: /Library/Frameworks/R.framework/Resources/bin/R CMD check --install=check:MsBackendMgf.install-out.txt --library=/Library/Frameworks/R.framework/Resources/library --no-vignettes --timings MsBackendMgf_1.14.0.tar.gz StartedAt: 2025-01-28 07:00:38 -0500 (Tue, 28 Jan 2025) EndedAt: 2025-01-28 07:03:24 -0500 (Tue, 28 Jan 2025) EllapsedTime: 165.3 seconds RetCode: 0 Status: OK CheckDir: MsBackendMgf.Rcheck Warnings: 0