Package: MsBackendMgf Version: 1.14.0 Command: /Library/Frameworks/R.framework/Resources/bin/R CMD build --keep-empty-dirs --no-resave-data MsBackendMgf StartedAt: 2025-01-27 20:48:49 -0500 (Mon, 27 Jan 2025) EndedAt: 2025-01-27 20:49:40 -0500 (Mon, 27 Jan 2025) EllapsedTime: 50.8 seconds RetCode: 0 Status: OK PackageFile: MsBackendMgf_1.14.0.tar.gz PackageFileSize: 327.6 KiB