Package: MsBackendMgf Version: 1.14.0 Command: /Library/Frameworks/R.framework/Resources/bin/R CMD check --install=check:MsBackendMgf.install-out.txt --library=/Library/Frameworks/R.framework/Resources/library --no-vignettes --timings MsBackendMgf_1.14.0.tar.gz StartedAt: 2025-01-29 02:00:23 -0500 (Wed, 29 Jan 2025) EndedAt: 2025-01-29 02:01:42 -0500 (Wed, 29 Jan 2025) EllapsedTime: 79.6 seconds RetCode: 0 Status: OK CheckDir: MsBackendMgf.Rcheck Warnings: 0