Package: MsBackendMassbank Version: 1.14.0 Command: /home/biocbuild/bbs-3.20-bioc/R/bin/R CMD INSTALL MsBackendMassbank StartedAt: 2025-03-31 15:22:58 -0400 (Mon, 31 Mar 2025) EndedAt: 2025-03-31 15:23:09 -0400 (Mon, 31 Mar 2025) EllapsedTime: 10.3 seconds RetCode: 0 Status: OK