Package: MsBackendMassbank Version: 1.14.0 Command: /Library/Frameworks/R.framework/Resources/bin/R CMD check --install=check:MsBackendMassbank.install-out.txt --library=/Library/Frameworks/R.framework/Resources/library --no-vignettes --timings MsBackendMassbank_1.14.0.tar.gz StartedAt: 2025-04-02 01:49:58 -0400 (Wed, 02 Apr 2025) EndedAt: 2025-04-02 01:51:50 -0400 (Wed, 02 Apr 2025) EllapsedTime: 112.3 seconds RetCode: 0 Status: OK CheckDir: MsBackendMassbank.Rcheck Warnings: 0