Package: MouseFM Version: 1.16.0 Command: /home/biocbuild/R/R/bin/R CMD build --keep-empty-dirs --no-resave-data MouseFM StartedAt: 2025-01-31 01:07:08 -0000 (Fri, 31 Jan 2025) EndedAt: 2025-01-31 01:08:17 -0000 (Fri, 31 Jan 2025) EllapsedTime: 69.0 seconds RetCode: 0 Status: OK PackageFile: MouseFM_1.16.0.tar.gz PackageFileSize: 775.6 KiB