Package: MouseFM Version: 1.16.0 Command: F:\biocbuild\bbs-3.20-bioc\R\bin\R.exe CMD INSTALL MouseFM StartedAt: 2025-03-31 16:08:16 -0400 (Mon, 31 Mar 2025) EndedAt: 2025-03-31 16:08:44 -0400 (Mon, 31 Mar 2025) EllapsedTime: 27.4 seconds RetCode: 0 Status: OK