Package: MouseFM Version: 1.16.0 Command: F:\biocbuild\bbs-3.20-bioc\R\bin\R.exe CMD check --no-multiarch --install=check:MouseFM.install-out.txt --library=F:\biocbuild\bbs-3.20-bioc\R\library --no-vignettes --timings MouseFM_1.16.0.tar.gz StartedAt: 2025-04-01 03:41:45 -0400 (Tue, 01 Apr 2025) EndedAt: 2025-04-01 03:45:40 -0400 (Tue, 01 Apr 2025) EllapsedTime: 235.6 seconds RetCode: 1 Status: ERROR CheckDir: MouseFM.Rcheck Warnings: NA