Package: MouseFM Version: 1.16.0 Command: /home/biocbuild/bbs-3.20-bioc/R/bin/R CMD INSTALL MouseFM StartedAt: 2025-01-30 15:27:48 -0500 (Thu, 30 Jan 2025) EndedAt: 2025-01-30 15:28:04 -0500 (Thu, 30 Jan 2025) EllapsedTime: 15.5 seconds RetCode: 0 Status: OK