Package: MotifDb Version: 1.48.0 Command: /home/biocbuild/R/R/bin/R CMD INSTALL MotifDb StartedAt: 2025-02-03 20:40:06 -0000 (Mon, 03 Feb 2025) EndedAt: 2025-02-03 20:41:02 -0000 (Mon, 03 Feb 2025) EllapsedTime: 55.2 seconds RetCode: 0 Status: OK