Package: MotifDb Version: 1.48.0 Command: /home/biocbuild/R/R/bin/R CMD build --keep-empty-dirs --no-resave-data MotifDb StartedAt: 2025-02-04 01:09:14 -0000 (Tue, 04 Feb 2025) EndedAt: 2025-02-04 01:10:26 -0000 (Tue, 04 Feb 2025) EllapsedTime: 72.0 seconds RetCode: 0 Status: OK PackageFile: MotifDb_1.48.0.tar.gz PackageFileSize: 3.225 MiB