Package: MotifDb Version: 1.48.0 Command: /Library/Frameworks/R.framework/Resources/bin/R CMD build --keep-empty-dirs --no-resave-data MotifDb StartedAt: 2025-04-01 03:39:47 -0400 (Tue, 01 Apr 2025) EndedAt: 2025-04-01 03:40:57 -0400 (Tue, 01 Apr 2025) EllapsedTime: 69.3 seconds RetCode: 0 Status: OK PackageFile: MotifDb_1.48.0.tar.gz PackageFileSize: 3.295 MiB