Package: Motif2Site Version: 1.10.0 Command: /Library/Frameworks/R.framework/Resources/bin/R CMD build --keep-empty-dirs --no-resave-data Motif2Site StartedAt: 2025-01-27 20:43:39 -0500 (Mon, 27 Jan 2025) EndedAt: 2025-01-27 20:50:06 -0500 (Mon, 27 Jan 2025) EllapsedTime: 386.9 seconds RetCode: 0 Status: OK PackageFile: Motif2Site_1.10.0.tar.gz PackageFileSize: 1.414 MiB