Package: Motif2Site Version: 1.10.0 Command: /Library/Frameworks/R.framework/Resources/bin/R CMD INSTALL Motif2Site StartedAt: 2025-03-31 17:10:35 -0400 (Mon, 31 Mar 2025) EndedAt: 2025-03-31 17:10:38 -0400 (Mon, 31 Mar 2025) EllapsedTime: 3.6 seconds RetCode: 0 Status: OK