Package: Motif2Site Version: 1.10.0 Command: /Library/Frameworks/R.framework/Resources/bin/R CMD build --keep-empty-dirs --no-resave-data Motif2Site StartedAt: 2025-04-01 03:37:43 -0400 (Tue, 01 Apr 2025) EndedAt: 2025-04-01 03:42:21 -0400 (Tue, 01 Apr 2025) EllapsedTime: 278.3 seconds RetCode: 0 Status: OK PackageFile: Motif2Site_1.10.0.tar.gz PackageFileSize: 1.414 MiB