Package: MoleculeExperiment Version: 1.6.0 Command: /home/biocbuild/R/R/bin/R CMD INSTALL MoleculeExperiment StartedAt: 2025-01-30 21:07:20 -0000 (Thu, 30 Jan 2025) EndedAt: 2025-01-30 21:07:21 -0000 (Thu, 30 Jan 2025) EllapsedTime: 1.0 seconds RetCode: 1 Status: ERROR