Package: MoleculeExperiment Version: 1.6.0 Command: /home/biocbuild/R/R/bin/R CMD build --keep-empty-dirs --no-resave-data MoleculeExperiment StartedAt: 2025-01-31 01:02:26 -0000 (Fri, 31 Jan 2025) EndedAt: 2025-01-31 01:02:27 -0000 (Fri, 31 Jan 2025) EllapsedTime: 1.0 seconds RetCode: 1 Status: ERROR PackageFile: None PackageFileSize: NA