############################################################################## ############################################################################## ### ### Running command: ### ### /home/biocbuild/R/R/bin/R CMD build --keep-empty-dirs --no-resave-data MoleculeExperiment ### ############################################################################## ############################################################################## * checking for file ‘MoleculeExperiment/DESCRIPTION’ ... OK * preparing ‘MoleculeExperiment’: * checking DESCRIPTION meta-information ... OK * installing the package to build vignettes ----------------------------------- ERROR: dependency ‘terra’ is not available for package ‘MoleculeExperiment’ * removing ‘/home/biocbuild/tmp/RtmpwK4BlM/Rinstb3ab173ec46e3/MoleculeExperiment’ ----------------------------------- ERROR: package installation failed