Package: MoleculeExperiment Version: 1.6.0 Command: F:\biocbuild\bbs-3.20-bioc\R\bin\R.exe CMD INSTALL MoleculeExperiment StartedAt: 2025-03-31 17:05:45 -0400 (Mon, 31 Mar 2025) EndedAt: 2025-03-31 17:08:33 -0400 (Mon, 31 Mar 2025) EllapsedTime: 167.8 seconds RetCode: 0 Status: OK