Package: MoleculeExperiment Version: 1.6.0 Command: rm -rf MoleculeExperiment.buildbin-libdir && mkdir MoleculeExperiment.buildbin-libdir && F:\biocbuild\bbs-3.20-bioc\R\bin\R.exe CMD INSTALL --build --library=MoleculeExperiment.buildbin-libdir MoleculeExperiment_1.6.0.tar.gz StartedAt: 2025-04-01 08:39:33 -0400 (Tue, 01 Apr 2025) EndedAt: 2025-04-01 08:42:11 -0400 (Tue, 01 Apr 2025) EllapsedTime: 158.1 seconds RetCode: 0 Status: OK PackageFile: MoleculeExperiment_1.6.0.zip PackageFileSize: 9.538 MiB