Package: MoleculeExperiment Version: 1.6.0 Command: /home/biocbuild/bbs-3.20-bioc/R/bin/R CMD check --install=check:MoleculeExperiment.install-out.txt --library=/home/biocbuild/bbs-3.20-bioc/R/site-library --timings MoleculeExperiment_1.6.0.tar.gz StartedAt: 2025-01-31 00:07:42 -0500 (Fri, 31 Jan 2025) EndedAt: 2025-01-31 00:14:28 -0500 (Fri, 31 Jan 2025) EllapsedTime: 406.4 seconds RetCode: 0 Status: OK CheckDir: MoleculeExperiment.Rcheck Warnings: 0