Package: MoleculeExperiment Version: 1.6.0 Command: rm -rf MoleculeExperiment.buildbin-libdir && mkdir MoleculeExperiment.buildbin-libdir && /Users/biocbuild/BBS/utils/build-universal.sh MoleculeExperiment_1.6.0.tar.gz /Library/Frameworks/R.framework/Resources/bin/R MoleculeExperiment.buildbin-libdir StartedAt: 2025-01-28 13:45:56 -0500 (Tue, 28 Jan 2025) EndedAt: 2025-01-28 13:48:52 -0500 (Tue, 28 Jan 2025) EllapsedTime: 175.6 seconds RetCode: 0 Status: OK PackageFile: MoleculeExperiment_1.6.0.tgz PackageFileSize: 12.57 MiB