Package: Modstrings Version: 1.22.0 Command: rm -rf Modstrings.buildbin-libdir && mkdir Modstrings.buildbin-libdir && F:\biocbuild\bbs-3.20-bioc\R\bin\R.exe CMD INSTALL --build --library=Modstrings.buildbin-libdir Modstrings_1.22.0.tar.gz StartedAt: 2025-02-04 08:58:01 -0500 (Tue, 04 Feb 2025) EndedAt: 2025-02-04 08:59:36 -0500 (Tue, 04 Feb 2025) EllapsedTime: 94.9 seconds RetCode: 0 Status: OK PackageFile: Modstrings_1.22.0.zip PackageFileSize: 1.357 MiB