Package: ModCon Version: 1.14.0 Command: rm -rf ModCon.buildbin-libdir && mkdir ModCon.buildbin-libdir && F:\biocbuild\bbs-3.20-bioc\R\bin\R.exe CMD INSTALL --build --library=ModCon.buildbin-libdir ModCon_1.14.0.tar.gz StartedAt: 2025-04-01 08:39:14 -0400 (Tue, 01 Apr 2025) EndedAt: 2025-04-01 08:39:33 -0400 (Tue, 01 Apr 2025) EllapsedTime: 19.3 seconds RetCode: 0 Status: OK PackageFile: ModCon_1.14.0.zip PackageFileSize: 1.932 MiB