Package: ModCon Version: 1.14.0 Command: /home/biocbuild/bbs-3.20-bioc/R/bin/R CMD build --keep-empty-dirs --no-resave-data --md5 ModCon StartedAt: 2025-01-27 19:02:55 -0500 (Mon, 27 Jan 2025) EndedAt: 2025-01-27 19:04:44 -0500 (Mon, 27 Jan 2025) EllapsedTime: 109.1 seconds RetCode: 0 Status: OK PackageFile: ModCon_1.14.0.tar.gz PackageFileSize: 1.913 MiB