Package: ModCon Version: 1.14.0 Command: /Library/Frameworks/R.framework/Resources/bin/R CMD INSTALL ModCon StartedAt: 2025-02-03 15:19:39 -0500 (Mon, 03 Feb 2025) EndedAt: 2025-02-03 15:19:49 -0500 (Mon, 03 Feb 2025) EllapsedTime: 9.8 seconds RetCode: 0 Status: OK