Package: MineICA Version: 1.46.0 Command: /home/biocbuild/R/R/bin/R CMD build --keep-empty-dirs --no-resave-data MineICA StartedAt: 2025-01-28 01:34:15 -0000 (Tue, 28 Jan 2025) EndedAt: 2025-01-28 01:36:19 -0000 (Tue, 28 Jan 2025) EllapsedTime: 124.0 seconds RetCode: 0 Status: OK PackageFile: MineICA_1.46.0.tar.gz PackageFileSize: 1.428 MiB