Package: MineICA Version: 1.46.0 Command: /Library/Frameworks/R.framework/Resources/bin/R CMD build --keep-empty-dirs --no-resave-data MineICA StartedAt: 2025-03-31 20:04:27 -0400 (Mon, 31 Mar 2025) EndedAt: 2025-03-31 20:08:37 -0400 (Mon, 31 Mar 2025) EllapsedTime: 249.8 seconds RetCode: 0 Status: OK PackageFile: MineICA_1.46.0.tar.gz PackageFileSize: 1.433 MiB