Package: MineICA Version: 1.46.0 Command: rm -rf MineICA.buildbin-libdir && mkdir MineICA.buildbin-libdir && /Users/biocbuild/BBS/utils/build-universal.sh MineICA_1.46.0.tar.gz /Library/Frameworks/R.framework/Resources/bin/R MineICA.buildbin-libdir StartedAt: 2025-04-01 12:14:44 -0400 (Tue, 01 Apr 2025) EndedAt: 2025-04-01 12:16:05 -0400 (Tue, 01 Apr 2025) EllapsedTime: 81.6 seconds RetCode: 0 Status: OK PackageFile: MineICA_1.46.0.tgz PackageFileSize: 2.185 MiB