Package: MineICA Version: 1.46.0 Command: /Library/Frameworks/R.framework/Resources/bin/R CMD INSTALL MineICA StartedAt: 2025-01-27 18:08:24 -0500 (Mon, 27 Jan 2025) EndedAt: 2025-01-27 18:09:06 -0500 (Mon, 27 Jan 2025) EllapsedTime: 42.0 seconds RetCode: 0 Status: OK