Package: MicrobiotaProcess Version: 1.18.0 Command: /home/biocbuild/R/R/bin/R CMD INSTALL MicrobiotaProcess StartedAt: 2025-01-27 21:49:08 -0000 (Mon, 27 Jan 2025) EndedAt: 2025-01-27 21:50:35 -0000 (Mon, 27 Jan 2025) EllapsedTime: 86.6 seconds RetCode: 0 Status: OK