Package: MicrobiotaProcess Version: 1.18.0 Command: /home/biocbuild/R/R/bin/R CMD build --keep-empty-dirs --no-resave-data MicrobiotaProcess StartedAt: 2025-01-28 01:33:02 -0000 (Tue, 28 Jan 2025) EndedAt: 2025-01-28 01:36:28 -0000 (Tue, 28 Jan 2025) EllapsedTime: 206.1 seconds RetCode: 0 Status: OK PackageFile: MicrobiotaProcess_1.18.0.tar.gz PackageFileSize: 3.748 MiB