Package: MicrobiotaProcess Version: 1.18.0 Command: /home/biocbuild/bbs-3.20-bioc/R/bin/R CMD INSTALL MicrobiotaProcess StartedAt: 2025-01-27 16:38:49 -0500 (Mon, 27 Jan 2025) EndedAt: 2025-01-27 16:39:57 -0500 (Mon, 27 Jan 2025) EllapsedTime: 67.2 seconds RetCode: 0 Status: OK