Package: MicrobiotaProcess Version: 1.18.0 Command: /home/biocbuild/bbs-3.20-bioc/R/bin/R CMD check --install=check:MicrobiotaProcess.install-out.txt --library=/home/biocbuild/bbs-3.20-bioc/R/site-library --timings MicrobiotaProcess_1.18.0.tar.gz StartedAt: 2025-03-31 23:54:57 -0400 (Mon, 31 Mar 2025) EndedAt: 2025-04-01 00:01:26 -0400 (Tue, 01 Apr 2025) EllapsedTime: 388.4 seconds RetCode: 0 Status: OK CheckDir: MicrobiotaProcess.Rcheck Warnings: 0