Package: MicrobiotaProcess Version: 1.18.0 Command: /Library/Frameworks/R.framework/Resources/bin/R CMD INSTALL MicrobiotaProcess StartedAt: 2025-01-27 16:22:17 -0500 (Mon, 27 Jan 2025) EndedAt: 2025-01-27 16:24:52 -0500 (Mon, 27 Jan 2025) EllapsedTime: 155.0 seconds RetCode: 0 Status: OK