Package: MicrobiotaProcess Version: 1.18.0 Command: rm -rf MicrobiotaProcess.buildbin-libdir && mkdir MicrobiotaProcess.buildbin-libdir && /Users/biocbuild/BBS/utils/build-universal.sh MicrobiotaProcess_1.18.0.tar.gz /Library/Frameworks/R.framework/Resources/bin/R MicrobiotaProcess.buildbin-libdir StartedAt: 2025-01-28 13:41:38 -0500 (Tue, 28 Jan 2025) EndedAt: 2025-01-28 13:46:00 -0500 (Tue, 28 Jan 2025) EllapsedTime: 261.5 seconds RetCode: 0 Status: OK PackageFile: MicrobiotaProcess_1.18.0.tgz PackageFileSize: 5.724 MiB